BEGIN:VCALENDAR
VERSION:2.0
PRODID:-//Fredericton High School - ECPv6.15.20//NONSGML v1.0//EN
CALSCALE:GREGORIAN
METHOD:PUBLISH
X-ORIGINAL-URL:https://frederictonhigh.nbed.ca
X-WR-CALDESC:Events for Fredericton High School
REFRESH-INTERVAL;VALUE=DURATION:PT1H
X-Robots-Tag:noindex
X-PUBLISHED-TTL:PT1H
BEGIN:VTIMEZONE
TZID:America/Moncton
BEGIN:DAYLIGHT
TZOFFSETFROM:-0400
TZOFFSETTO:-0300
TZNAME:ADT
DTSTART:20230312T060000
END:DAYLIGHT
BEGIN:STANDARD
TZOFFSETFROM:-0300
TZOFFSETTO:-0400
TZNAME:AST
DTSTART:20231105T050000
END:STANDARD
BEGIN:DAYLIGHT
TZOFFSETFROM:-0400
TZOFFSETTO:-0300
TZNAME:ADT
DTSTART:20240310T060000
END:DAYLIGHT
BEGIN:STANDARD
TZOFFSETFROM:-0300
TZOFFSETTO:-0400
TZNAME:AST
DTSTART:20241103T050000
END:STANDARD
BEGIN:DAYLIGHT
TZOFFSETFROM:-0400
TZOFFSETTO:-0300
TZNAME:ADT
DTSTART:20250309T060000
END:DAYLIGHT
BEGIN:STANDARD
TZOFFSETFROM:-0300
TZOFFSETTO:-0400
TZNAME:AST
DTSTART:20251102T050000
END:STANDARD
END:VTIMEZONE
BEGIN:VEVENT
DTSTART;TZID=America/Moncton:20241002T125000
DTEND;TZID=America/Moncton:20241002T135000
DTSTAMP:20260425T115522
CREATED:20240912T142053Z
LAST-MODIFIED:20240912T142054Z
UID:10000213-1727873400-1727877000@frederictonhigh.nbed.ca
SUMMARY:University of Maine
DESCRIPTION:A representative from the University of Maine will be in the cafeteria at lunch on Wednesday\, October 2nd.
URL:https://frederictonhigh.nbed.ca/calendar/university-of-maine/
CATEGORIES:Post-secondary
ATTACH;FMTTYPE=image/png:https://frederictonhigh.nbed.ca/wp-content/uploads/sites/28/2024/09/Maine.png
END:VEVENT
BEGIN:VEVENT
DTSTART;TZID=America/Moncton:20241018T125000
DTEND;TZID=America/Moncton:20241018T131000
DTSTAMP:20260425T115522
CREATED:20241018T143920Z
LAST-MODIFIED:20241018T143922Z
UID:10000220-1729255800-1729257000@frederictonhigh.nbed.ca
SUMMARY:UNB Renaissance College
DESCRIPTION:A representative from UNB Renaissance College will be in the cafeteria at lunch on Monday\, October 28th.
URL:https://frederictonhigh.nbed.ca/calendar/unb-renaissance-college-2/
CATEGORIES:Post-secondary
ATTACH;FMTTYPE=image/jpeg:https://frederictonhigh.nbed.ca/wp-content/uploads/sites/28/2023/11/UNB-Renaissance-College.jpg
END:VEVENT
BEGIN:VEVENT
DTSTART;TZID=America/Moncton:20241023T125000
DTEND;TZID=America/Moncton:20241023T135000
DTSTAMP:20260425T115522
CREATED:20241008T190410Z
LAST-MODIFIED:20241008T190411Z
UID:10000218-1729687800-1729691400@frederictonhigh.nbed.ca
SUMMARY:Mount Allison University
DESCRIPTION:A representative from Mount Allison University will be in the cafeteria.
URL:https://frederictonhigh.nbed.ca/calendar/mount-allison-university-2/
CATEGORIES:Post-secondary
ATTACH;FMTTYPE=image/jpeg:https://frederictonhigh.nbed.ca/wp-content/uploads/sites/28/2023/09/mta.jpg
END:VEVENT
BEGIN:VEVENT
DTSTART;TZID=America/Moncton:20241024T091500
DTEND;TZID=America/Moncton:20241024T121500
DTSTAMP:20260425T115522
CREATED:20241017T141747Z
LAST-MODIFIED:20241017T141748Z
UID:10000219-1729761300-1729772100@frederictonhigh.nbed.ca
SUMMARY:St. Thomas University
DESCRIPTION:A representative from St. Thomas University will be in the Guidance Office on Thursday October 24th for advising and applying to STU.  Please sign up in advance in Guidance.
URL:https://frederictonhigh.nbed.ca/calendar/st-thomas-university-6/
CATEGORIES:Post-secondary
ATTACH;FMTTYPE=image/jpeg:https://frederictonhigh.nbed.ca/wp-content/uploads/sites/28/2023/04/STU-1.jpg
END:VEVENT
BEGIN:VEVENT
DTSTART;TZID=America/Moncton:20241030T083000
DTEND;TZID=America/Moncton:20241030T091000
DTSTAMP:20260425T115522
CREATED:20240903T140157Z
LAST-MODIFIED:20240903T140158Z
UID:10000209-1730277000-1730279400@frederictonhigh.nbed.ca
SUMMARY:University of Alberta
DESCRIPTION:A representative from the University of Alberta will be in the cafeteria.
URL:https://frederictonhigh.nbed.ca/calendar/university-of-alberta/
CATEGORIES:Post-secondary
ATTACH;FMTTYPE=image/webp:https://frederictonhigh.nbed.ca/wp-content/uploads/sites/28/2024/09/Alberta.webp
END:VEVENT
END:VCALENDAR